BEGIN:VCALENDAR
VERSION:2.0
PRODID:-//Sabre//Sabre VObject 4.5.8//EN
CALSCALE:GREGORIAN
BEGIN:VTIMEZONE
TZID:Europe/Zurich
X-LIC-LOCATION:Europe/Zurich
TZURL:http://tzurl.org/zoneinfo/Europe/Zurich
BEGIN:DAYLIGHT
TZOFFSETFROM:+0100
TZOFFSETTO:+0200
TZNAME:CEST
DTSTART:19810329T020000
RRULE:FREQ=YEARLY;BYMONTH=3;BYDAY=-1SU
END:DAYLIGHT
BEGIN:STANDARD
TZOFFSETFROM:+0200
TZOFFSETTO:+0100
TZNAME:CET
DTSTART:19961027T030000
RRULE:FREQ=YEARLY;BYMONTH=10;BYDAY=-1SU
END:STANDARD
END:VTIMEZONE
BEGIN:VEVENT
UID:news2031@wwz.unibas.ch
DTSTAMP;TZID=Europe/Zurich:20260416T144907
DTSTART;TZID=Europe/Zurich:20260520T181500
SUMMARY:Mobility Pricing – ein Modell für die Zukunft? Was wir aus unser
 en Feldexperimenten lernen können
DESCRIPTION:Der Schweizer Verkehr verursacht gesellschaftliche Kosten in de
 r Höhe von rund 20 Milliarden Franken pro Jahr\, in der Form von Klimasch
 äden\, Stau und Gesundheitsfolgen. Diese Kosten sind in den momentanen Pr
 eisen von Mobilität nicht berücksichtigt und folglich auch nicht gedeckt
 . In seinem Vortrag präsentiert Beat Hintermann Resultate aus drei Feldex
 perimenten in der Schweiz\, die untersuchen\, wie das individuelle Verkehr
 sverhalten auf unterschiedliche Instrumente reagiert\, welche das Ziel hab
 en\, die externen Kosten zu senken. Seine Studien basieren auf GPS-Daten v
 on rund 8‘000 Teilnehmenden und kombinieren monetäre und nicht-monetär
 e Ansätze. Die Resultate zeigen Wege auf\, wie gezielte Bepreisung von Ve
 rkehr zu einem nachhaltigeren Verkehrsverhalten führen kann.\\r\\nUm Anme
 ldung bis zum 15.05.2026 wird gebeten: Zur Anmeldung [https://wwz.unibas.c
 h/de/aktuell/events/20260520-anmeldung-referat/]\\r\\nZum Flyer [t3://file
 ?uid=9888]
X-ALT-DESC:<p>Der Schweizer Verkehr verursacht gesellschaftliche Kosten in 
 der Höhe von rund 20 Milliarden Franken pro Jahr\, in der Form von Klimas
 chäden\, Stau und Gesundheitsfolgen. Diese Kosten sind in den momentanen 
 Preisen von Mobilität nicht berücksichtigt und folglich auch nicht gedec
 kt. In seinem Vortrag präsentiert Beat Hintermann Resultate aus drei Feld
 experimenten in der Schweiz\, die untersuchen\, wie das individuelle Verke
 hrsverhalten auf unterschiedliche Instrumente reagiert\, welche das Ziel h
 aben\, die externen Kosten zu senken. Seine Studien basieren auf GPS-Daten
  von rund 8‘000 Teilnehmenden und kombinieren monetäre und nicht-monet
 äre Ansätze. Die Resultate zeigen Wege auf\, wie gezielte Bepreisung von
  Verkehr zu einem nachhaltigeren Verkehrsverhalten führen kann.</p>\n<p>U
 m Anmeldung bis zum 15.05.2026 wird gebeten: <a href="https://wwz.unibas.c
 h/de/aktuell/events/20260520-anmeldung-referat/">Zur Anmeldung</a></p>\n<p
 ><a href="t3://file?uid=9888">Zum Flyer</a></p>
DTEND;TZID=Europe/Zurich:20260520T200000
END:VEVENT
END:VCALENDAR
