BEGIN:VCALENDAR
VERSION:2.0
PRODID:-//Sabre//Sabre VObject 4.5.8//EN
CALSCALE:GREGORIAN
BEGIN:VTIMEZONE
TZID:Europe/Zurich
X-LIC-LOCATION:Europe/Zurich
TZURL:http://tzurl.org/zoneinfo/Europe/Zurich
BEGIN:DAYLIGHT
TZOFFSETFROM:+0100
TZOFFSETTO:+0200
TZNAME:CEST
DTSTART:19810329T020000
RRULE:FREQ=YEARLY;BYMONTH=3;BYDAY=-1SU
END:DAYLIGHT
BEGIN:STANDARD
TZOFFSETFROM:+0200
TZOFFSETTO:+0100
TZNAME:CET
DTSTART:19961027T030000
RRULE:FREQ=YEARLY;BYMONTH=10;BYDAY=-1SU
END:STANDARD
END:VTIMEZONE
BEGIN:VEVENT
UID:news2034@wwz.unibas.ch
DTSTAMP;TZID=Europe/Zurich:20260422T130425
DTSTART;TZID=Europe/Zurich:20260518T180000
SUMMARY:Digitaler Infoabend des MBA Marketing and Business Development
DESCRIPTION:Marketing verändert sich rasant. Themen wie Marketing Automati
 on und Künstliche Intelligenz werden ab 2027 fester Bestandteil des MBA M
 arketing and Business Development der Universität Basel.\\r\\nDu möchtes
 t verstehen\, wie du diese Entwicklungen gezielt für deine Karriere nutzt
  und dich in deinem Unternehmen als treibende Kraft positionierst? Dann is
 t dieser Infoabend interessant für dich.\\r\\n📅 18. Mai 2026\, 18:00 U
 hr\, online\\r\\nDas erwartet dich:• Einblick in die neuen Inhalte ab 20
 27• Überblick über Aufbau\, Zeitaufwand und Nutzen des MBA• Praxisna
 he Beispiele aus dem Berufsalltag unserer Alumni• Direkter Austausch mit
  Studienleitung und Programmteam\\r\\n🎯 Erfahre\, wie du aktuelle Trend
 s nicht nur verstehst\, sondern aktiv für deinen nächsten Entwicklungssc
 hritt nutzt.\\r\\n📌 Studienstart: 1. Februar 2027\\r\\n👉 Jetzt anmel
 den [https://mbamarketing.unibas.ch/de/studium/infoabend-und-beratung/] un
 d herausfinden\, wie du mit den richtigen Kompetenzen den Unterschied mach
 st.
X-ALT-DESC:<p>Marketing verändert sich rasant. Themen wie Marketing Automa
 tion und Künstliche Intelligenz werden ab 2027 fester Bestandteil des MBA
  Marketing and Business Development der Universität Basel.</p>\n<p>Du mö
 chtest verstehen\, wie du diese Entwicklungen gezielt für deine Karriere 
 nutzt und dich in deinem Unternehmen als treibende Kraft positionierst? Da
 nn ist dieser Infoabend interessant für dich.</p>\n<p>📅 18. Mai 2026\,
  18:00 Uhr\, online</p>\n<p>Das erwartet dich:<br />• Einblick in die ne
 uen Inhalte ab 2027<br />• Überblick über Aufbau\, Zeitaufwand und Nut
 zen des MBA<br />• Praxisnahe Beispiele aus dem Berufsalltag unserer Alu
 mni<br />• Direkter Austausch mit Studienleitung und Programmteam</p>\n<
 p>🎯 Erfahre\, wie du aktuelle Trends nicht nur verstehst\, sondern akti
 v für deinen nächsten Entwicklungsschritt nutzt.</p>\n<p>📌 Studiensta
 rt: 1. Februar 2027</p>\n<p>👉 <a href="https://mbamarketing.unibas.ch/d
 e/studium/infoabend-und-beratung/">Jetzt anmelden</a> und herausfinden\, w
 ie du mit den richtigen Kompetenzen den Unterschied machst.</p>
DTEND;TZID=Europe/Zurich:20260518T190000
END:VEVENT
END:VCALENDAR
